BEGIN:VCALENDAR
VERSION:2.0
PRODID:-//Squarespace Inc/Squarespace 6//v6//EN
BEGIN:VEVENT
UID:57edf4a8ebbd1a9d748d2399@squarespace.com
DTSTAMP:20160930T053014Z
DTSTART:20161008T043000Z
DTEND:20161008T053000Z
SUMMARY:HOT FITNESS PILATES CLASS
END:VEVENT
END:VCALENDAR
