BEGIN:VCALENDAR
VERSION:2.0
PRODID:-//Squarespace Inc/Squarespace 6//v6//EN
BEGIN:VEVENT
UID:5843dcb4f5e23112c09b100a@squarespace.com
DTSTAMP:20161204T092037Z
DTSTART:20161218T020000Z
DTEND:20161218T040000Z
SUMMARY:Simply Chic! Flower Arrangement Workshop
END:VEVENT
END:VCALENDAR
