BEGIN:VCALENDAR
VERSION:2.0
PRODID:-//Squarespace Inc/Squarespace 6//v6//EN
BEGIN:VEVENT
UID:575abbbb22482e632ce7838f@squarespace.com
DTSTAMP:20180523T034716Z
DTSTART:20160611T003000Z
DTEND:20160613T080000Z
SUMMARY:Endless Fashion Pop-Up Store
END:VEVENT
END:VCALENDAR
