BEGIN:VCALENDAR
VERSION:2.0
PRODID:-//Squarespace Inc/Squarespace 6//v6//EN
BEGIN:VEVENT
UID:593bb713db29d6d853724584@squarespace.com
DTSTAMP:20170610T091753Z
DTSTART:20170616T233000Z
DTEND:20170617T003000Z
SUMMARY:Endless Stretch & Flexibility Workshop
GEO:-37.812273;145.078017
LOCATION:Endless Lifestyle Studio\, 269 Whitehorse Road\, Balwyn\, VIC\, 31
 03\, Australia
END:VEVENT
END:VCALENDAR
