BEGIN:VCALENDAR
VERSION:2.0
PRODID:-//Squarespace Inc/Squarespace 6//v6//EN
BEGIN:VEVENT
UID:593bba8f440243665c2af043@squarespace.com
DTSTAMP:20170610T094042Z
DTSTART:20170630T230000Z
DTEND:20170701T060000Z
SUMMARY:Donation Classes for ChildFund Australia on 1st July 2017
GEO:-37.812273;145.078017
LOCATION:Endless Lifestyle Studio\, 269 Whitehorse Road\, Balwyn\, VIC\, 31
 03\, Australia
END:VEVENT
END:VCALENDAR
