BEGIN:VCALENDAR
VERSION:2.0
PRODID:-//Squarespace Inc/Squarespace 6//v6//EN
BEGIN:VEVENT
UID:5b049afe88251b75353d7f9b@squarespace.com
DTSTAMP:20180524T020127Z
DTSTART:20180617T030000Z
DTEND:20180617T040000Z
SUMMARY:Belly DanceFit Workshop
GEO:-37.812273;145.078017
LOCATION:ENDLESS LIFESTYEL STUDIO\, 269 Whitehorse Road\, Balwyn\, VIC\, 31
 03\, Australia
END:VEVENT
END:VCALENDAR
